Name | Last modified | Size | Description | |
---|---|---|---|---|
Parent Directory | - | |||
buildbin-summary.dcf | 20-Oct-2022 02:22 | 560 | ||
buildbin-out.txt | 20-Oct-2022 02:22 | 2.1K | ||
checksrc-out.txt | 20-Oct-2022 02:22 | 4.0K | ||
checksrc-summary.dcf | 20-Oct-2022 02:22 | 477 | ||
buildsrc-summary.dcf | 20-Oct-2022 02:22 | 482 | ||
buildsrc-out.txt | 20-Oct-2022 02:22 | 910 | ||
install-summary.dcf | 20-Oct-2022 02:22 | 283 | ||
install-out.txt | 20-Oct-2022 02:22 | 1.9K | ||