Name | Last modified | Size | Description | |
---|---|---|---|---|
Parent Directory | - | |||
checksrc-out.txt | 19-Mar-2022 00:08 | 7.5K | ||
buildbin-out.txt | 19-Mar-2022 00:08 | 3.1K | ||
install-out.txt | 19-Mar-2022 00:08 | 3.0K | ||
buildsrc-out.txt | 19-Mar-2022 00:08 | 951 | ||
buildbin-summary.dcf | 19-Mar-2022 00:08 | 539 | ||
buildsrc-summary.dcf | 19-Mar-2022 00:08 | 468 | ||
checksrc-summary.dcf | 19-Mar-2022 00:08 | 463 | ||
install-summary.dcf | 19-Mar-2022 00:08 | 276 | ||