Name | Last modified | Size | Description | |
---|---|---|---|---|
Parent Directory | - | |||
install-summary.dcf | 19-Mar-2022 00:08 | 301 | ||
buildsrc-summary.dcf | 19-Mar-2022 00:08 | 518 | ||
checksrc-summary.dcf | 19-Mar-2022 00:08 | 519 | ||
buildbin-summary.dcf | 19-Mar-2022 00:08 | 612 | ||
buildsrc-out.txt | 19-Mar-2022 00:08 | 1.2K | ||
install-out.txt | 19-Mar-2022 00:08 | 2.0K | ||
buildbin-out.txt | 19-Mar-2022 00:08 | 2.0K | ||
checksrc-out.txt | 19-Mar-2022 00:08 | 6.0K | ||