Name | Last modified | Size | Description | |
---|---|---|---|---|
Parent Directory | - | |||
buildbin-out.txt | 20-Oct-2022 02:22 | 1.3K | ||
buildbin-summary.dcf | 20-Oct-2022 02:22 | 614 | ||
buildsrc-out.txt | 20-Oct-2022 02:22 | 1.0K | ||
buildsrc-summary.dcf | 20-Oct-2022 02:22 | 518 | ||
checksrc-out.txt | 20-Oct-2022 02:22 | 5.7K | ||
checksrc-summary.dcf | 20-Oct-2022 02:22 | 513 | ||
install-out.txt | 20-Oct-2022 02:22 | 1.1K | ||
install-summary.dcf | 20-Oct-2022 02:22 | 301 | ||