Name | Last modified | Size | Description | |
---|---|---|---|---|
Parent Directory | - | |||
buildsrc-out.txt | 20-Oct-2022 02:20 | 910 | ||
buildsrc-summary.dcf | 20-Oct-2022 02:20 | 466 | ||
checksrc-out.txt | 20-Oct-2022 02:20 | 5.7K | ||
checksrc-summary.dcf | 20-Oct-2022 02:20 | 490 | ||
install-out.txt | 20-Oct-2022 02:20 | 1.1K | ||
install-summary.dcf | 20-Oct-2022 02:20 | 292 | ||