Name | Last modified | Size | Description | |
---|---|---|---|---|
Parent Directory | - | |||
install-summary.dcf | 20-Oct-2022 02:23 | 302 | ||
buildsrc-summary.dcf | 20-Oct-2022 02:23 | 476 | ||
checksrc-summary.dcf | 20-Oct-2022 02:23 | 510 | ||
buildbin-summary.dcf | 20-Oct-2022 02:23 | 629 | ||
buildsrc-out.txt | 20-Oct-2022 02:23 | 920 | ||
install-out.txt | 20-Oct-2022 02:23 | 1.1K | ||
buildbin-out.txt | 20-Oct-2022 02:23 | 1.4K | ||
checksrc-out.txt | 20-Oct-2022 02:23 | 5.9K | ||