Index of /checkResults/3.15/bioc-LATEST/terraTCGAdata/raw-results
Name
Last modified
Size
Description
Parent Directory
-
info.dcf
20-Oct-2022 02:23
290
palomino3/
20-Oct-2022 02:22
-
nebbiolo1/
20-Oct-2022 02:20
-
merida1/
20-Oct-2022 02:23
-