Index of /checkResults/3.15/bioc-LATEST/structToolbox/raw-results
Name
Last modified
Size
Description
Parent Directory
-
info.dcf
28-Jun-2022 00:10
286
merida1/
25-Jun-2022 01:08
-
nebbiolo1/
28-Jun-2022 00:10
-
palomino3/
25-Jun-2022 01:06
-
riesling1/
19-Mar-2022 00:08
-