Name | Last modified | Size | Description | |
---|---|---|---|---|
Parent Directory | - | |||
buildbin-summary.dcf | 20-Oct-2022 02:22 | 506 | ||
buildbin-out.txt | 20-Oct-2022 02:22 | 1.1K | ||
checksrc-summary.dcf | 20-Oct-2022 02:22 | 441 | ||
checksrc-out.txt | 20-Oct-2022 02:22 | 3.0K | ||
buildsrc-summary.dcf | 20-Oct-2022 02:22 | 446 | ||
buildsrc-out.txt | 20-Oct-2022 02:22 | 833 | ||
install-summary.dcf | 20-Oct-2022 02:22 | 265 | ||
install-out.txt | 20-Oct-2022 02:22 | 959 | ||