Back to Multiple platform build/check report for BioC 3.15
ABCDEFGHIJKLMNOPQR[S]TUVWXYZ

This page was generated on 2022-07-01 12:08:47 -0400 (Fri, 01 Jul 2022).

HostnameOSArch (*)R versionInstalled pkgs
nebbiolo1Linux (Ubuntu 20.04.4 LTS)x86_644.2.0 (2022-04-22) -- "Vigorous Calisthenics" 4380
palomino3Windows Server 2022 Datacenterx644.2.0 (2022-04-22 ucrt) -- "Vigorous Calisthenics" 4156
merida1macOS 10.14.6 Mojavex86_644.2.0 (2022-04-22) -- "Vigorous Calisthenics" 4221
Click on any hostname to see more info about the system (e.g. compilers)      (*) as reported by 'uname -p', except on Windows and Mac OS X

BUILD results for splots on merida1


To the developers/maintainers of the splots package:
- Please allow up to 24 hours (and sometimes 48 hours) for your latest push to git@git.bioconductor.org:packages/splots.git to
reflect on this report. See How and When does the builder pull? When will my changes propagate? for more information.
- Make sure to use the following settings in order to reproduce any error or warning you see on this page.

raw results

Package 1914/2140HostnameOS / ArchINSTALLBUILDCHECKBUILD BIN
splots 1.62.0  (landing page)
Wolfgang Huber
Snapshot Date: 2022-06-30 13:55:04 -0400 (Thu, 30 Jun 2022)
git_url: https://git.bioconductor.org/packages/splots
git_branch: RELEASE_3_15
git_last_commit: b193d65
git_last_commit_date: 2022-04-26 10:58:50 -0400 (Tue, 26 Apr 2022)
nebbiolo1Linux (Ubuntu 20.04.4 LTS) / x86_64  OK    OK    OK  UNNEEDED, same version is already published
palomino3Windows Server 2022 Datacenter / x64  OK    OK    OK    OK  UNNEEDED, same version is already published
merida1macOS 10.14.6 Mojave / x86_64  OK    OK    OK    OK  UNNEEDED, same version is already published

Summary

Package: splots
Version: 1.62.0
Command: /Library/Frameworks/R.framework/Resources/bin/R CMD build --keep-empty-dirs --no-resave-data splots
StartedAt: 2022-06-30 21:49:06 -0400 (Thu, 30 Jun 2022)
EndedAt: 2022-06-30 21:52:16 -0400 (Thu, 30 Jun 2022)
EllapsedTime: 190.2 seconds
RetCode: 0
Status:   OK  
PackageFile: splots_1.62.0.tar.gz
PackageFileSize: 486.8 MiB

Command output

##############################################################################
##############################################################################
###
### Running command:
###
###   /Library/Frameworks/R.framework/Resources/bin/R CMD build --keep-empty-dirs --no-resave-data splots
###
##############################################################################
##############################################################################


* checking for file ‘splots/DESCRIPTION’ ... OK
* preparing ‘splots’:
* checking DESCRIPTION meta-information ... OK
* installing the package to build vignettes
* creating vignettes ... OK
* checking for LF line-endings in source and make files and shell scripts
* checking for empty or unneeded directories
  NB: this package now depends on R (>= 3.5.0)
  WARNING: Added dependency on R >= 3.5.0 because serialized objects in
  serialize/load version 3 cannot be read in older versions of R.
  File(s) containing such objects:
    ‘splots/vignettes/splots_cache/html/exampledata_faa3bd823a086629ff78616d9f5681c4.RData’
    ‘splots/vignettes/splots_cache/html/exampledata_faa3bd823a086629ff78616d9f5681c4.rdx’
    ‘splots/vignettes/splots_cache/html/fig1_ef0e00bf97a2761b659d34a2426c94ee.RData’
    ‘splots/vignettes/splots_cache/html/fig1_ef0e00bf97a2761b659d34a2426c94ee.rdx’
    ‘splots/vignettes/splots_cache/html/sessionInfo_1dc389017630d1106ebcde4b93ecd6ee.RData’
    ‘splots/vignettes/splots_cache/html/sessionInfo_1dc389017630d1106ebcde4b93ecd6ee.rdx’
    ‘splots/vignettes/splots_cache/html/xl_acfbd6b20f28c7c5221aaf778e74229d.RData’
    ‘splots/vignettes/splots_cache/html/xl_acfbd6b20f28c7c5221aaf778e74229d.rdx’
* building ‘splots_1.62.0.tar.gz’