Index of /checkResults/3.15/bioc-LATEST/single/raw-results

[ICO]NameLast modifiedSizeDescription

[DIR]Parent Directory  -  
[   ]info.dcf16-Aug-2022 02:23 269  
[DIR]merida1/16-Aug-2022 02:23 -  
[DIR]nebbiolo1/16-Aug-2022 02:20 -  
[DIR]palomino3/16-Aug-2022 02:22 -