Name | Last modified | Size | Description | |
---|---|---|---|---|
Parent Directory | - | |||
buildbin-out.txt | 19-Mar-2022 00:08 | 1.9K | ||
buildbin-summary.dcf | 19-Mar-2022 00:08 | 531 | ||
buildsrc-out.txt | 19-Mar-2022 00:08 | 854 | ||
buildsrc-summary.dcf | 19-Mar-2022 00:08 | 464 | ||
checksrc-out.txt | 19-Mar-2022 00:08 | 3.2K | ||
checksrc-summary.dcf | 19-Mar-2022 00:08 | 459 | ||
install-out.txt | 19-Mar-2022 00:08 | 1.9K | ||
install-summary.dcf | 19-Mar-2022 00:08 | 275 | ||