Index of /checkResults/3.15/bioc-LATEST/sesame/raw-results/palomino3

[ICO]NameLast modifiedSizeDescription

[DIR]Parent Directory  -  
[TXT]buildbin-out.txt04-Aug-2022 02:22 1.1K 
[   ]buildbin-summary.dcf04-Aug-2022 02:22 509  
[TXT]buildsrc-out.txt04-Aug-2022 02:22 834  
[   ]buildsrc-summary.dcf04-Aug-2022 02:22 450  
[TXT]checksrc-out.txt04-Aug-2022 02:22 5.9K 
[   ]checksrc-summary.dcf04-Aug-2022 02:22 444  
[TXT]install-out.txt04-Aug-2022 02:22 959  
[   ]install-summary.dcf04-Aug-2022 02:22 266