Index of /checkResults/3.15/bioc-LATEST/sesame/raw-results/merida1

[ICO]NameLast modifiedSizeDescription

[DIR]Parent Directory  -  
[TXT]buildbin-out.txt11-Aug-2022 04:40 1.1K 
[   ]buildbin-summary.dcf11-Aug-2022 04:40 524  
[TXT]buildsrc-out.txt11-Aug-2022 04:40 812  
[   ]buildsrc-summary.dcf11-Aug-2022 04:40 426  
[TXT]checksrc-out.txt11-Aug-2022 04:40 6.4K 
[   ]checksrc-summary.dcf11-Aug-2022 04:40 441  
[TXT]install-out.txt11-Aug-2022 04:40 1.0K 
[   ]install-summary.dcf11-Aug-2022 04:40 267