Name | Last modified | Size | Description | |
---|---|---|---|---|
Parent Directory | - | |||
install-out.txt | 19-Mar-2022 00:08 | 1.9K | ||
install-summary.dcf | 19-Mar-2022 00:08 | 274 | ||
buildsrc-out.txt | 19-Mar-2022 00:08 | 914 | ||
buildsrc-summary.dcf | 19-Mar-2022 00:08 | 463 | ||
checksrc-out.txt | 19-Mar-2022 00:08 | 8.2K | ||
checksrc-summary.dcf | 19-Mar-2022 00:08 | 459 | ||
buildbin-out.txt | 19-Mar-2022 00:08 | 1.8K | ||
buildbin-summary.dcf | 19-Mar-2022 00:08 | 534 | ||