Name | Last modified | Size | Description | |
---|---|---|---|---|
Parent Directory | - | |||
buildsrc-out.txt | 19-Mar-2022 00:08 | 3.2K | ||
buildsrc-summary.dcf | 19-Mar-2022 00:08 | 374 | ||
install-summary.dcf | 19-Mar-2022 00:08 | 272 | ||
install-out.txt | 19-Mar-2022 00:08 | 2.9K | ||
buildbin-summary.dcf | 18-Mar-2022 00:08 | 525 | ||
buildbin-out.txt | 18-Mar-2022 00:08 | 3.0K | ||
checksrc-out.txt | 18-Mar-2022 00:08 | 3.6K | ||
checksrc-summary.dcf | 18-Mar-2022 00:08 | 453 | ||