Name | Last modified | Size | Description | |
---|---|---|---|---|
Parent Directory | - | |||
install-summary.dcf | 19-Mar-2022 00:08 | 265 | ||
install-out.txt | 19-Mar-2022 00:08 | 66K | ||
checksrc-summary.dcf | 19-Mar-2022 00:08 | 445 | ||
checksrc-out.txt | 19-Mar-2022 00:08 | 4.7K | ||
buildsrc-summary.dcf | 19-Mar-2022 00:08 | 444 | ||
buildsrc-out.txt | 19-Mar-2022 00:08 | 861 | ||
buildbin-summary.dcf | 19-Mar-2022 00:08 | 504 | ||
buildbin-out.txt | 19-Mar-2022 00:08 | 66K | ||