![]() | Name | Last modified | Size | Description |
---|---|---|---|---|
![]() | Parent Directory | - | ||
![]() | install-summary.dcf | 20-Oct-2022 02:23 | 266 | |
![]() | install-out.txt | 20-Oct-2022 02:23 | 42K | |
![]() | checksrc-summary.dcf | 20-Oct-2022 02:23 | 443 | |
![]() | checksrc-out.txt | 20-Oct-2022 02:23 | 4.3K | |
![]() | buildsrc-summary.dcf | 20-Oct-2022 02:23 | 421 | |
![]() | buildsrc-out.txt | 20-Oct-2022 02:23 | 838 | |
![]() | buildbin-summary.dcf | 20-Oct-2022 02:23 | 519 | |
![]() | buildbin-out.txt | 20-Oct-2022 02:23 | 43K | |