Name | Last modified | Size | Description | |
---|---|---|---|---|
Parent Directory | - | |||
buildbin-out.txt | 19-Mar-2022 00:08 | 46M | ||
buildbin-summary.dcf | 19-Mar-2022 00:08 | 513 | ||
buildsrc-out.txt | 19-Mar-2022 00:08 | 945 | ||
buildsrc-summary.dcf | 19-Mar-2022 00:08 | 451 | ||
checksrc-out.txt | 19-Mar-2022 00:08 | 19K | ||
checksrc-summary.dcf | 19-Mar-2022 00:08 | 445 | ||
install-out.txt | 19-Mar-2022 00:08 | 46M | ||
install-summary.dcf | 19-Mar-2022 00:08 | 268 | ||