Index of /checkResults/3.15/bioc-LATEST/scTreeViz/raw-results/nebbiolo1

[ICO]NameLast modifiedSizeDescription

[DIR]Parent Directory  -  
[TXT]buildsrc-out.txt16-Aug-2022 02:20 853  
[   ]buildsrc-summary.dcf16-Aug-2022 02:20 422  
[TXT]checksrc-out.txt16-Aug-2022 02:20 4.8K 
[   ]checksrc-summary.dcf16-Aug-2022 02:20 430  
[TXT]install-out.txt16-Aug-2022 02:20 1.3K 
[   ]install-summary.dcf16-Aug-2022 02:20 262