Index of /checkResults/3.15/bioc-LATEST/scTreeViz/raw-results/merida1

[ICO]NameLast modifiedSizeDescription

[DIR]Parent Directory  -  
[TXT]buildbin-out.txt16-Aug-2022 02:23 1.5K 
[   ]buildbin-summary.dcf16-Aug-2022 02:23 540  
[TXT]buildsrc-out.txt16-Aug-2022 02:23 863  
[   ]buildsrc-summary.dcf16-Aug-2022 02:23 432  
[TXT]checksrc-out.txt16-Aug-2022 02:23 4.9K 
[   ]checksrc-summary.dcf16-Aug-2022 02:23 450  
[TXT]install-out.txt16-Aug-2022 02:23 1.3K 
[   ]install-summary.dcf16-Aug-2022 02:23 273