Back to Multiple platform build/check report for BioC 3.15
ABCDEFGHIJKLMNOPQR[S]TUVWXYZ

This page was generated on 2022-05-18 12:08:55 -0400 (Wed, 18 May 2022).

HostnameOSArch (*)R versionInstalled pkgs
nebbiolo1Linux (Ubuntu 20.04.4 LTS)x86_644.2.0 (2022-04-22) -- "Vigorous Calisthenics" 4379
palomino3Windows Server 2022 Datacenterx644.2.0 (2022-04-22 ucrt) -- "Vigorous Calisthenics" 4154
merida1macOS 10.14.6 Mojavex86_644.2.0 (2022-04-22) -- "Vigorous Calisthenics" 4220
Click on any hostname to see more info about the system (e.g. compilers)      (*) as reported by 'uname -p', except on Windows and Mac OS X

CHECK results for scTreeViz on merida1


To the developers/maintainers of the scTreeViz package:
- Please allow up to 24 hours (and sometimes 48 hours) for your latest push to git@git.bioconductor.org:packages/scTreeViz.git to
reflect on this report. See How and When does the builder pull? When will my changes propagate? for more information.
- Make sure to use the following settings in order to reproduce any error or warning you see on this page.

raw results

Package 1797/2140HostnameOS / ArchINSTALLBUILDCHECKBUILD BIN
scTreeViz 1.2.0  (landing page)
Jayaram Kancherla
Snapshot Date: 2022-05-17 13:55:01 -0400 (Tue, 17 May 2022)
git_url: https://git.bioconductor.org/packages/scTreeViz
git_branch: RELEASE_3_15
git_last_commit: bf5ce8a
git_last_commit_date: 2022-04-26 12:18:41 -0400 (Tue, 26 Apr 2022)
nebbiolo1Linux (Ubuntu 20.04.4 LTS) / x86_64  OK    OK    OK  UNNEEDED, same version is already published
palomino3Windows Server 2022 Datacenter / x64  OK    OK    OK    OK  UNNEEDED, same version is already published
merida1macOS 10.14.6 Mojave / x86_64  OK    OK    OK    OK  UNNEEDED, same version is already published

Summary

Package: scTreeViz
Version: 1.2.0
Command: /Library/Frameworks/R.framework/Resources/bin/R CMD check --install=check:scTreeViz.install-out.txt --library=/Library/Frameworks/R.framework/Resources/library --no-vignettes --timings scTreeViz_1.2.0.tar.gz
StartedAt: 2022-05-18 07:35:34 -0400 (Wed, 18 May 2022)
EndedAt: 2022-05-18 07:49:23 -0400 (Wed, 18 May 2022)
EllapsedTime: 829.3 seconds
RetCode: 0
Status:   OK  
CheckDir: scTreeViz.Rcheck
Warnings: 0

Command output

##############################################################################
##############################################################################
###
### Running command:
###
###   /Library/Frameworks/R.framework/Resources/bin/R CMD check --install=check:scTreeViz.install-out.txt --library=/Library/Frameworks/R.framework/Resources/library --no-vignettes --timings scTreeViz_1.2.0.tar.gz
###
##############################################################################
##############################################################################


* using log directory ‘/Users/biocbuild/bbs-3.15-bioc/meat/scTreeViz.Rcheck’
* using R version 4.2.0 (2022-04-22)
* using platform: x86_64-apple-darwin17.0 (64-bit)
* using session charset: UTF-8
* using option ‘--no-vignettes’
* checking for file ‘scTreeViz/DESCRIPTION’ ... OK
* checking extension type ... Package
* this is package ‘scTreeViz’ version ‘1.2.0’
* package encoding: UTF-8
* checking package namespace information ... OK
* checking package dependencies ... OK
* checking if this is a source package ... OK
* checking if there is a namespace ... OK
* checking for hidden files and directories ... OK
* checking for portable file names ... OK
* checking for sufficient/correct file permissions ... OK
* checking whether package ‘scTreeViz’ can be installed ... OK
* checking installed package size ... OK
* checking package directory ... OK
* checking ‘build’ directory ... OK
* checking DESCRIPTION meta-information ... OK
* checking top-level files ... OK
* checking for left-over files ... OK
* checking index information ... OK
* checking package subdirectories ... OK
* checking R files for non-ASCII characters ... OK
* checking R files for syntax errors ... OK
* checking whether the package can be loaded ... OK
* checking whether the package can be loaded with stated dependencies ... OK
* checking whether the package can be unloaded cleanly ... OK
* checking whether the namespace can be loaded with stated dependencies ... OK
* checking whether the namespace can be unloaded cleanly ... OK
* checking dependencies in R code ... OK
* checking S3 generic/method consistency ... OK
* checking replacement functions ... OK
* checking foreign function calls ... OK
* checking R code for possible problems ... NOTE
.generate_hierarchy_tree: no visible binding for global variable
  'otu_index'
.generate_leaf_of_table: no visible binding for global variable 'leaf'
.generate_leaf_of_table: no visible binding for global variable
  'otu_index'
.generate_leaf_of_table: no visible binding for global variable 'id'
.generate_node_ids : <anonymous>: no visible global function definition
  for '.'
.generate_node_ids : <anonymous>: no visible binding for global
  variable 'otu_index'
.generate_nodes_table: no visible binding for global variable 'id'
.generate_nodes_table: no visible binding for global variable 'lineage'
.generate_nodes_table: no visible binding for global variable
  'node_label'
.generate_nodes_table: no visible binding for global variable 'level'
.preprocessAndCreateTreeViz: no visible global function definition for
  'chracter'
getNodes,TreeIndex: no visible binding for global variable 'level'
getNodes,TreeIndex: no visible binding for global variable 'id'
splitAt,TreeIndex: no visible binding for global variable 'level'
splitAt,TreeIndex: no visible binding for global variable 'id'
splitAt,TreeIndex: no visible binding for global variable 'lineage'
splitAt,TreeIndex: no visible binding for global variable 'leaf'
splitAt,TreeIndex: no visible binding for global variable 'otu_index'
splitAt,TreeIndex: no visible global function definition for '.'
splitAt,TreeIndex: no visible binding for global variable 'node_label'
Undefined global functions or variables:
  . chracter id leaf level lineage node_label otu_index
* checking Rd files ... OK
* checking Rd metadata ... OK
* checking Rd cross-references ... OK
* checking for missing documentation entries ... OK
* checking for code/documentation mismatches ... OK
* checking Rd \usage sections ... OK
* checking Rd contents ... OK
* checking for unstated dependencies in examples ... OK
* checking files in ‘vignettes’ ... OK
* checking examples ... OK
Examples with CPU (user + system) or elapsed time > 5s
                    user system elapsed
TreeIndex-methods 38.890  1.409  40.942
TreeIndex         18.727  1.029  20.142
TreeViz           16.408  0.696  17.541
createFromSCE     12.442  0.191  13.072
* checking for unstated dependencies in ‘tests’ ... OK
* checking tests ...
  Running ‘testthat.R’
 OK
* checking for unstated dependencies in vignettes ... OK
* checking package vignettes in ‘inst/doc’ ... OK
* checking running R code from vignettes ... SKIPPED
* checking re-building of vignette outputs ... SKIPPED
* checking PDF version of manual ... OK
* DONE

Status: 1 NOTE
See
  ‘/Users/biocbuild/bbs-3.15-bioc/meat/scTreeViz.Rcheck/00check.log’
for details.



Installation output

scTreeViz.Rcheck/00install.out

##############################################################################
##############################################################################
###
### Running command:
###
###   /Library/Frameworks/R.framework/Resources/bin/R CMD INSTALL scTreeViz
###
##############################################################################
##############################################################################


* installing to library ‘/Library/Frameworks/R.framework/Versions/4.2/Resources/library’
* installing *source* package ‘scTreeViz’ ...
** using staged installation
** R
** byte-compile and prepare package for lazy loading
Warning message:
replacing previous import 'GenomicFeatures::proteinToGenome' by 'ensembldb::proteinToGenome' when loading 'epivizrData' 
** help
*** installing help indices
** building package indices
** installing vignettes
** testing if installed package can be loaded from temporary location
Warning: replacing previous import 'GenomicFeatures::proteinToGenome' by 'ensembldb::proteinToGenome' when loading 'epivizrData'
** testing if installed package can be loaded from final location
Warning: replacing previous import 'GenomicFeatures::proteinToGenome' by 'ensembldb::proteinToGenome' when loading 'epivizrData'
** testing if installed package keeps a record of temporary installation path
* DONE (scTreeViz)

Tests output

scTreeViz.Rcheck/tests/testthat.Rout


R version 4.2.0 (2022-04-22) -- "Vigorous Calisthenics"
Copyright (C) 2022 The R Foundation for Statistical Computing
Platform: x86_64-apple-darwin17.0 (64-bit)

R is free software and comes with ABSOLUTELY NO WARRANTY.
You are welcome to redistribute it under certain conditions.
Type 'license()' or 'licence()' for distribution details.

R is a collaborative project with many contributors.
Type 'contributors()' for more information and
'citation()' on how to cite R or R packages in publications.

Type 'demo()' for some demos, 'help()' for on-line help, or
'help.start()' for an HTML browser interface to help.
Type 'q()' to quit R.

> library(testthat)
> library(scTreeViz)
Loading required package: epivizr
Loading required package: SummarizedExperiment
Loading required package: MatrixGenerics
Loading required package: matrixStats

Attaching package: 'MatrixGenerics'

The following objects are masked from 'package:matrixStats':

    colAlls, colAnyNAs, colAnys, colAvgsPerRowSet, colCollapse,
    colCounts, colCummaxs, colCummins, colCumprods, colCumsums,
    colDiffs, colIQRDiffs, colIQRs, colLogSumExps, colMadDiffs,
    colMads, colMaxs, colMeans2, colMedians, colMins, colOrderStats,
    colProds, colQuantiles, colRanges, colRanks, colSdDiffs, colSds,
    colSums2, colTabulates, colVarDiffs, colVars, colWeightedMads,
    colWeightedMeans, colWeightedMedians, colWeightedSds,
    colWeightedVars, rowAlls, rowAnyNAs, rowAnys, rowAvgsPerColSet,
    rowCollapse, rowCounts, rowCummaxs, rowCummins, rowCumprods,
    rowCumsums, rowDiffs, rowIQRDiffs, rowIQRs, rowLogSumExps,
    rowMadDiffs, rowMads, rowMaxs, rowMeans2, rowMedians, rowMins,
    rowOrderStats, rowProds, rowQuantiles, rowRanges, rowRanks,
    rowSdDiffs, rowSds, rowSums2, rowTabulates, rowVarDiffs, rowVars,
    rowWeightedMads, rowWeightedMeans, rowWeightedMedians,
    rowWeightedSds, rowWeightedVars

Loading required package: GenomicRanges
Loading required package: stats4
Loading required package: BiocGenerics

Attaching package: 'BiocGenerics'

The following objects are masked from 'package:stats':

    IQR, mad, sd, var, xtabs

The following objects are masked from 'package:base':

    Filter, Find, Map, Position, Reduce, anyDuplicated, append,
    as.data.frame, basename, cbind, colnames, dirname, do.call,
    duplicated, eval, evalq, get, grep, grepl, intersect, is.unsorted,
    lapply, mapply, match, mget, order, paste, pmax, pmax.int, pmin,
    pmin.int, rank, rbind, rownames, sapply, setdiff, sort, table,
    tapply, union, unique, unsplit, which.max, which.min

Loading required package: S4Vectors

Attaching package: 'S4Vectors'

The following objects are masked from 'package:base':

    I, expand.grid, unname

Loading required package: IRanges
Loading required package: GenomeInfoDb
Loading required package: Biobase
Welcome to Bioconductor

    Vignettes contain introductory material; view with
    'browseVignettes()'. To cite Bioconductor, see
    'citation("Biobase")', and for packages 'citation("pkgname")'.


Attaching package: 'Biobase'

The following object is masked from 'package:MatrixGenerics':

    rowMedians

The following objects are masked from 'package:matrixStats':

    anyMissing, rowMedians

Warning message:
replacing previous import 'GenomicFeatures::proteinToGenome' by 'ensembldb::proteinToGenome' when loading 'epivizrData' 
> 
> test_check("scTreeViz")
[1] "root"       "3.cluster3" "5.cluster5" "6.cluster6" "samples"   
[1] "root"       "3.cluster3" "5.cluster5"
[1] "1.cluster1" "2.cluster2" "3.cluster3" "samples"   
[ FAIL 0 | WARN 0 | SKIP 2 | PASS 7 ]

══ Skipped tests ═══════════════════════════════════════════════════════════════
• conflict between new Seurat and Summarized Experiment (1)
• need data here (1)

[ FAIL 0 | WARN 0 | SKIP 2 | PASS 7 ]
> 
> proc.time()
   user  system elapsed 
 43.666   1.680  45.707 

Example timings

scTreeViz.Rcheck/scTreeViz-Ex.timings

nameusersystemelapsed
ClusterHierarchy0.6520.0170.681
TreeIndex-methods38.890 1.40940.942
TreeIndex18.727 1.02920.142
TreeViz-methods000
TreeViz16.408 0.69617.541
createFromSCE12.442 0.19113.072
createFromSeurat1.1880.1011.308
createTreeViz0.6810.0070.693
startTreeviz0.2030.0010.205