Name | Last modified | Size | Description | |
---|---|---|---|---|
Parent Directory | - | |||
checksrc-out.txt | 05-Jan-2022 01:06 | 3.3K | ||
buildbin-out.txt | 05-Jan-2022 01:06 | 1.7K | ||
buildsrc-out.txt | 19-Mar-2022 00:08 | 1.0K | ||
install-out.txt | 19-Mar-2022 00:08 | 822 | ||
buildbin-summary.dcf | 05-Jan-2022 01:06 | 515 | ||
checksrc-summary.dcf | 05-Jan-2022 01:06 | 447 | ||
buildsrc-summary.dcf | 19-Mar-2022 00:08 | 368 | ||
install-summary.dcf | 19-Mar-2022 00:08 | 271 | ||