Index of /checkResults/3.15/bioc-LATEST/scMerge/raw-results/nebbiolo1

[ICO]NameLast modifiedSizeDescription

[DIR]Parent Directory  -  
[TXT]buildsrc-out.txt11-Aug-2022 04:40 869  
[   ]buildsrc-summary.dcf11-Aug-2022 04:40 417  
[TXT]checksrc-out.txt11-Aug-2022 04:40 3.5K 
[   ]checksrc-summary.dcf11-Aug-2022 04:40 424  
[TXT]install-out.txt11-Aug-2022 04:40 955  
[   ]install-summary.dcf11-Aug-2022 04:40 259