Name | Last modified | Size | Description | |
---|---|---|---|---|
Parent Directory | - | |||
buildbin-summary.dcf | 20-Oct-2022 02:22 | 500 | ||
buildbin-out.txt | 20-Oct-2022 02:22 | 1.1K | ||
checksrc-out.txt | 20-Oct-2022 02:22 | 3.2K | ||
checksrc-summary.dcf | 20-Oct-2022 02:22 | 437 | ||
buildsrc-summary.dcf | 20-Oct-2022 02:22 | 443 | ||
buildsrc-out.txt | 20-Oct-2022 02:22 | 888 | ||
install-summary.dcf | 20-Oct-2022 02:22 | 263 | ||
install-out.txt | 20-Oct-2022 02:22 | 965 | ||