Name | Last modified | Size | Description | |
---|---|---|---|---|
Parent Directory | - | |||
buildbin-out.txt | 19-Mar-2022 00:08 | 1.6K | ||
buildbin-summary.dcf | 19-Mar-2022 00:08 | 505 | ||
buildsrc-out.txt | 19-Mar-2022 00:08 | 893 | ||
buildsrc-summary.dcf | 19-Mar-2022 00:08 | 446 | ||
checksrc-out.txt | 19-Mar-2022 00:08 | 3.4K | ||
checksrc-summary.dcf | 19-Mar-2022 00:08 | 441 | ||
install-out.txt | 19-Mar-2022 00:08 | 1.5K | ||
install-summary.dcf | 19-Mar-2022 00:08 | 265 | ||