Name | Last modified | Size | Description | |
---|---|---|---|---|
Parent Directory | - | |||
install-summary.dcf | 20-Oct-2022 02:22 | 281 | ||
buildsrc-summary.dcf | 20-Oct-2022 02:22 | 478 | ||
checksrc-summary.dcf | 20-Oct-2022 02:22 | 479 | ||
buildbin-summary.dcf | 20-Oct-2022 02:22 | 554 | ||
install-out.txt | 20-Oct-2022 02:22 | 1.4K | ||
buildbin-out.txt | 20-Oct-2022 02:22 | 1.5K | ||
buildsrc-out.txt | 20-Oct-2022 02:22 | 4.8K | ||
checksrc-out.txt | 20-Oct-2022 02:22 | 14K | ||