Name | Last modified | Size | Description | |
---|---|---|---|---|
Parent Directory | - | |||
buildbin-out.txt | 20-Oct-2022 02:23 | 1.6K | ||
buildbin-summary.dcf | 20-Oct-2022 02:23 | 569 | ||
buildsrc-out.txt | 20-Oct-2022 02:23 | 4.8K | ||
buildsrc-summary.dcf | 20-Oct-2022 02:23 | 446 | ||
checksrc-out.txt | 20-Oct-2022 02:23 | 14K | ||
checksrc-summary.dcf | 20-Oct-2022 02:23 | 476 | ||
install-out.txt | 20-Oct-2022 02:23 | 1.4K | ||
install-summary.dcf | 20-Oct-2022 02:23 | 282 | ||