Name | Last modified | Size | Description | |
---|---|---|---|---|
Parent Directory | - | |||
buildbin-out.txt | 19-Mar-2022 00:08 | 1.6K | ||
buildbin-summary.dcf | 19-Mar-2022 00:08 | 567 | ||
buildsrc-out.txt | 19-Mar-2022 00:08 | 921 | ||
buildsrc-summary.dcf | 19-Mar-2022 00:08 | 489 | ||
checksrc-out.txt | 19-Mar-2022 00:08 | 3.3K | ||
checksrc-summary.dcf | 19-Mar-2022 00:08 | 483 | ||
install-out.txt | 19-Mar-2022 00:08 | 1.4K | ||
install-summary.dcf | 19-Mar-2022 00:08 | 286 | ||