Name | Last modified | Size | Description | |
---|---|---|---|---|
Parent Directory | - | |||
buildbin-out.txt | 19-Mar-2022 00:08 | 86K | ||
buildbin-summary.dcf | 19-Mar-2022 00:08 | 540 | ||
buildsrc-out.txt | 19-Mar-2022 00:08 | 1.3K | ||
buildsrc-summary.dcf | 19-Mar-2022 00:08 | 469 | ||
checksrc-out.txt | 19-Mar-2022 00:08 | 15K | ||
checksrc-summary.dcf | 19-Mar-2022 00:08 | 467 | ||
install-out.txt | 19-Mar-2022 00:08 | 85K | ||
install-summary.dcf | 19-Mar-2022 00:08 | 277 | ||