Name | Last modified | Size | Description | |
---|---|---|---|---|
Parent Directory | - | |||
install-out.txt | 20-Oct-2022 02:22 | 941 | ||
install-summary.dcf | 20-Oct-2022 02:22 | 259 | ||
buildsrc-out.txt | 20-Oct-2022 02:22 | 818 | ||
buildsrc-summary.dcf | 20-Oct-2022 02:22 | 434 | ||
checksrc-out.txt | 20-Oct-2022 02:22 | 3.0K | ||
checksrc-summary.dcf | 20-Oct-2022 02:22 | 428 | ||
buildbin-out.txt | 20-Oct-2022 02:22 | 1.0K | ||
buildbin-summary.dcf | 20-Oct-2022 02:22 | 486 | ||