Index of /checkResults/3.15/bioc-LATEST/rifi/raw-results/palomino3
Name
Last modified
Size
Description
Parent Directory
-
buildsrc-out.txt
20-Oct-2022 02:22
904
buildsrc-summary.dcf
20-Oct-2022 02:22
357
install-out.txt
20-Oct-2022 02:22
606
install-summary.dcf
20-Oct-2022 02:22
263