Name | Last modified | Size | Description | |
---|---|---|---|---|
Parent Directory | - | |||
buildbin-summary.dcf | 20-Oct-2022 02:22 | 524 | ||
buildbin-out.txt | 20-Oct-2022 02:22 | 1.1K | ||
checksrc-out.txt | 20-Oct-2022 02:22 | 3.8K | ||
checksrc-summary.dcf | 20-Oct-2022 02:22 | 453 | ||
buildsrc-summary.dcf | 20-Oct-2022 02:22 | 459 | ||
buildsrc-out.txt | 20-Oct-2022 02:22 | 885 | ||
install-summary.dcf | 20-Oct-2022 02:22 | 271 | ||
install-out.txt | 20-Oct-2022 02:22 | 1.0K | ||