Index of /checkResults/3.15/bioc-LATEST/regutools/raw-results/merida1

[ICO]NameLast modifiedSizeDescription

[DIR]Parent Directory  -  
[TXT]buildbin-out.txt02-Jul-2022 01:08 1.2K 
[   ]buildbin-summary.dcf02-Jul-2022 01:08 540  
[TXT]buildsrc-out.txt02-Jul-2022 01:08 863  
[   ]buildsrc-summary.dcf02-Jul-2022 01:08 432  
[TXT]checksrc-out.txt02-Jul-2022 01:08 3.8K 
[   ]checksrc-summary.dcf02-Jul-2022 01:08 450  
[TXT]install-out.txt02-Jul-2022 01:08 1.0K 
[   ]install-summary.dcf02-Jul-2022 01:08 272