Name | Last modified | Size | Description | |
---|---|---|---|---|
Parent Directory | - | |||
install-summary.dcf | 19-Mar-2022 00:08 | 278 | ||
checksrc-summary.dcf | 19-Mar-2022 00:08 | 467 | ||
buildsrc-summary.dcf | 19-Mar-2022 00:08 | 472 | ||
buildbin-summary.dcf | 19-Mar-2022 00:08 | 545 | ||
buildsrc-out.txt | 19-Mar-2022 00:08 | 901 | ||
install-out.txt | 19-Mar-2022 00:08 | 1.3K | ||
buildbin-out.txt | 19-Mar-2022 00:08 | 1.4K | ||
checksrc-out.txt | 19-Mar-2022 00:08 | 3.4K | ||