Name | Last modified | Size | Description | |
---|---|---|---|---|
Parent Directory | - | |||
checksrc-out.txt | 20-Oct-2022 02:22 | 3.4K | ||
buildbin-out.txt | 20-Oct-2022 02:22 | 1.1K | ||
install-out.txt | 20-Oct-2022 02:22 | 1.0K | ||
buildsrc-out.txt | 20-Oct-2022 02:22 | 901 | ||
buildbin-summary.dcf | 20-Oct-2022 02:22 | 545 | ||
buildsrc-summary.dcf | 20-Oct-2022 02:22 | 472 | ||
checksrc-summary.dcf | 20-Oct-2022 02:22 | 467 | ||
install-summary.dcf | 20-Oct-2022 02:22 | 278 | ||