Name | Last modified | Size | Description | |
---|---|---|---|---|
Parent Directory | - | |||
checksrc-out.txt | 20-Oct-2022 02:20 | 3.4K | ||
install-out.txt | 20-Oct-2022 02:20 | 962 | ||
buildsrc-out.txt | 20-Oct-2022 02:20 | 866 | ||
checksrc-summary.dcf | 20-Oct-2022 02:20 | 444 | ||
buildsrc-summary.dcf | 20-Oct-2022 02:20 | 432 | ||
install-summary.dcf | 20-Oct-2022 02:20 | 269 | ||