Name | Last modified | Size | Description | |
---|---|---|---|---|
Parent Directory | - | |||
buildsrc-out.txt | 20-Oct-2022 02:20 | 887 | ||
buildsrc-summary.dcf | 20-Oct-2022 02:20 | 408 | ||
checksrc-out.txt | 20-Oct-2022 02:20 | 7.4K | ||
checksrc-summary.dcf | 20-Oct-2022 02:20 | 417 | ||
install-out.txt | 20-Oct-2022 02:20 | 11K | ||
install-summary.dcf | 20-Oct-2022 02:20 | 253 | ||