![]() | Name | Last modified | Size | Description |
---|---|---|---|---|
![]() | Parent Directory | - | ||
![]() | buildbin-out.txt | 19-Mar-2022 00:08 | 2.2K | |
![]() | buildbin-summary.dcf | 19-Mar-2022 00:08 | 520 | |
![]() | buildsrc-out.txt | 19-Mar-2022 00:08 | 844 | |
![]() | buildsrc-summary.dcf | 19-Mar-2022 00:08 | 454 | |
![]() | checksrc-out.txt | 19-Mar-2022 00:08 | 4.2K | |
![]() | checksrc-summary.dcf | 19-Mar-2022 00:08 | 451 | |
![]() | install-out.txt | 19-Mar-2022 00:08 | 2.1K | |
![]() | install-summary.dcf | 19-Mar-2022 00:08 | 270 | |