Index of /checkResults/3.15/bioc-LATEST/profileplyr/raw-results/merida1

[ICO]NameLast modifiedSizeDescription

[DIR]Parent Directory  -  
[TXT]buildbin-out.txt11-Aug-2022 04:40 1.2K 
[   ]buildbin-summary.dcf11-Aug-2022 04:40 555  
[TXT]buildsrc-out.txt11-Aug-2022 04:40 895  
[   ]buildsrc-summary.dcf11-Aug-2022 04:40 440  
[TXT]checksrc-out.txt11-Aug-2022 04:40 3.5K 
[   ]checksrc-summary.dcf11-Aug-2022 04:40 460  
[TXT]install-out.txt11-Aug-2022 04:40 1.0K 
[   ]install-summary.dcf11-Aug-2022 04:40 277