![]() | Name | Last modified | Size | Description |
---|---|---|---|---|
![]() | Parent Directory | - | ||
![]() | install-summary.dcf | 20-Oct-2022 02:20 | 255 | |
![]() | buildsrc-summary.dcf | 20-Oct-2022 02:20 | 412 | |
![]() | checksrc-summary.dcf | 20-Oct-2022 02:20 | 416 | |
![]() | buildsrc-out.txt | 20-Oct-2022 02:20 | 798 | |
![]() | install-out.txt | 20-Oct-2022 02:20 | 1.0K | |
![]() | checksrc-out.txt | 20-Oct-2022 02:20 | 4.2K | |