Index of /checkResults/3.15/bioc-LATEST/pogos/raw-results

[ICO]NameLast modifiedSizeDescription

[DIR]Parent Directory  -  
[   ]info.dcf14-May-2022 01:48 269  
[DIR]merida1/14-May-2022 01:48 -  
[DIR]nebbiolo1/14-May-2022 01:45 -  
[DIR]palomino3/14-May-2022 01:47 -  
[DIR]riesling1/19-Mar-2022 00:08 -