Name | Last modified | Size | Description | |
---|---|---|---|---|
Parent Directory | - | |||
install-summary.dcf | 20-Oct-2022 02:23 | 260 | ||
install-out.txt | 20-Oct-2022 02:23 | 1.0K | ||
checksrc-summary.dcf | 20-Oct-2022 02:23 | 426 | ||
checksrc-out.txt | 20-Oct-2022 02:23 | 3.2K | ||
buildsrc-summary.dcf | 20-Oct-2022 02:23 | 414 | ||
buildsrc-out.txt | 20-Oct-2022 02:23 | 799 | ||
buildbin-summary.dcf | 20-Oct-2022 02:23 | 503 | ||
buildbin-out.txt | 20-Oct-2022 02:23 | 1.2K | ||