Name | Last modified | Size | Description | |
---|---|---|---|---|
Parent Directory | - | |||
buildsrc-out.txt | 20-Oct-2022 02:20 | 822 | ||
buildsrc-summary.dcf | 20-Oct-2022 02:20 | 431 | ||
checksrc-out.txt | 20-Oct-2022 02:20 | 4.5K | ||
checksrc-summary.dcf | 20-Oct-2022 02:20 | 439 | ||
install-out.txt | 20-Oct-2022 02:20 | 951 | ||
install-summary.dcf | 20-Oct-2022 02:20 | 266 | ||