Name | Last modified | Size | Description | |
---|---|---|---|---|
Parent Directory | - | |||
buildbin-out.txt | 19-Mar-2022 00:08 | 3.0K | ||
buildbin-summary.dcf | 19-Mar-2022 00:08 | 518 | ||
buildsrc-out.txt | 19-Mar-2022 00:08 | 903 | ||
buildsrc-summary.dcf | 19-Mar-2022 00:08 | 455 | ||
checksrc-out.txt | 19-Mar-2022 00:08 | 4.4K | ||
checksrc-summary.dcf | 19-Mar-2022 00:08 | 449 | ||
install-out.txt | 19-Mar-2022 00:08 | 3.0K | ||
install-summary.dcf | 19-Mar-2022 00:08 | 269 | ||