Name | Last modified | Size | Description | |
---|---|---|---|---|
Parent Directory | - | |||
buildbin-out.txt | 18-Mar-2022 00:08 | 2.0K | ||
buildbin-summary.dcf | 18-Mar-2022 00:08 | 503 | ||
buildsrc-out.txt | 19-Mar-2022 00:08 | 1.0K | ||
buildsrc-summary.dcf | 19-Mar-2022 00:08 | 361 | ||
checksrc-out.txt | 18-Mar-2022 00:08 | 3.1K | ||
checksrc-summary.dcf | 18-Mar-2022 00:08 | 438 | ||
install-out.txt | 19-Mar-2022 00:08 | 803 | ||
install-summary.dcf | 19-Mar-2022 00:08 | 267 | ||