Name | Last modified | Size | Description | |
---|---|---|---|---|
Parent Directory | - | |||
buildbin-summary.dcf | 19-Mar-2022 00:08 | 527 | ||
buildbin-out.txt | 19-Mar-2022 00:08 | 2.7K | ||
checksrc-summary.dcf | 19-Mar-2022 00:08 | 455 | ||
checksrc-out.txt | 19-Mar-2022 00:08 | 3.8K | ||
buildsrc-summary.dcf | 19-Mar-2022 00:08 | 461 | ||
buildsrc-out.txt | 19-Mar-2022 00:08 | 881 | ||
install-summary.dcf | 19-Mar-2022 00:08 | 272 | ||
install-out.txt | 19-Mar-2022 00:08 | 2.6K | ||