Name | Last modified | Size | Description | |
---|---|---|---|---|
Parent Directory | - | |||
buildbin-summary.dcf | 20-Oct-2022 02:23 | 541 | ||
buildbin-out.txt | 20-Oct-2022 02:23 | 2.9K | ||
checksrc-summary.dcf | 20-Oct-2022 02:23 | 452 | ||
checksrc-out.txt | 20-Oct-2022 02:23 | 3.2K | ||
buildsrc-summary.dcf | 20-Oct-2022 02:23 | 434 | ||
buildsrc-out.txt | 20-Oct-2022 02:23 | 854 | ||
install-summary.dcf | 20-Oct-2022 02:23 | 273 | ||
install-out.txt | 20-Oct-2022 02:23 | 2.0K | ||