Name | Last modified | Size | Description | |
---|---|---|---|---|
Parent Directory | - | |||
buildsrc-out.txt | 20-Oct-2022 02:20 | 814 | ||
buildsrc-summary.dcf | 20-Oct-2022 02:20 | 423 | ||
checksrc-out.txt | 20-Oct-2022 02:20 | 3.1K | ||
checksrc-summary.dcf | 20-Oct-2022 02:20 | 431 | ||
install-out.txt | 20-Oct-2022 02:20 | 953 | ||
install-summary.dcf | 20-Oct-2022 02:20 | 262 | ||