Name | Last modified | Size | Description | |
---|---|---|---|---|
Parent Directory | - | |||
buildsrc-out.txt | 20-Oct-2022 02:20 | 838 | ||
buildsrc-summary.dcf | 20-Oct-2022 02:20 | 417 | ||
checksrc-out.txt | 20-Oct-2022 02:20 | 3.9K | ||
checksrc-summary.dcf | 20-Oct-2022 02:20 | 423 | ||
install-out.txt | 20-Oct-2022 02:20 | 947 | ||
install-summary.dcf | 20-Oct-2022 02:20 | 258 | ||